BEGIN:VCALENDAR
VERSION:2.0
PRODID:-//Lamb of God  Lafayette - ECPv6.15.20//NONSGML v1.0//EN
CALSCALE:GREGORIAN
METHOD:PUBLISH
X-WR-CALNAME:Lamb of God  Lafayette
X-ORIGINAL-URL:https://lambofgodlafayette.com
X-WR-CALDESC:Events for Lamb of God  Lafayette
REFRESH-INTERVAL;VALUE=DURATION:PT1H
X-Robots-Tag:noindex
X-PUBLISHED-TTL:PT1H
BEGIN:VTIMEZONE
TZID:UTC
BEGIN:STANDARD
TZOFFSETFROM:+0000
TZOFFSETTO:+0000
TZNAME:UTC
DTSTART:20210101T000000
END:STANDARD
END:VTIMEZONE
BEGIN:VEVENT
DTSTART;TZID=UTC:20221121T190000
DTEND;TZID=UTC:20221121T200000
DTSTAMP:20260422T103426
CREATED:20220818T201715Z
LAST-MODIFIED:20220819T025856Z
UID:5270-1669057200-1669060800@lambofgodlafayette.com
SUMMARY:Campus Ministry Night
DESCRIPTION:Join us for a night of fun\, fellowship and the Word!\n\nWHEN: Monday Nights at 7 p.m. \nWHERE: WALC (across from the bell tower) Room 2121 \nSNACKS are provided! \nContact Pastor Horn if you need a ride 765-609-0890
URL:https://lambofgodlafayette.com/event/campus-ministry-night/
LOCATION:Purdue University\, 340 Centennial Mall Dr\, West Lafayette\, IN\, United States
CATEGORIES:Campus Ministry
ATTACH;FMTTYPE=image/png:https://lambofgodlafayette.com/wp-content/uploads/2022/08/Campus-Ministry-Nights-1.png
END:VEVENT
BEGIN:VEVENT
DTSTART;TZID=UTC:20221121T190000
DTEND;TZID=UTC:20221121T200000
DTSTAMP:20260422T103426
CREATED:20220818T201715Z
LAST-MODIFIED:20220819T025856Z
UID:5270-1669057200-1669060800@lambofgodlafayette.com
SUMMARY:Campus Ministry Night
DESCRIPTION:Join us for a night of fun\, fellowship and the Word!\n\nWHEN: Monday Nights at 7 p.m. \nWHERE: WALC (across from the bell tower) Room 2121 \nSNACKS are provided! \nContact Pastor Horn if you need a ride 765-609-0890
URL:https://lambofgodlafayette.com/event/campus-ministry-night/
LOCATION:Purdue University\, 340 Centennial Mall Dr\, West Lafayette\, IN\, United States
CATEGORIES:Campus Ministry
ATTACH;FMTTYPE=image/png:https://lambofgodlafayette.com/wp-content/uploads/2022/08/Campus-Ministry-Nights-1.png
END:VEVENT
BEGIN:VEVENT
DTSTART;TZID=UTC:20221121T190000
DTEND;TZID=UTC:20221121T200000
DTSTAMP:20260422T103426
CREATED:20220818T201715Z
LAST-MODIFIED:20220819T025856Z
UID:5270-1669057200-1669060800@lambofgodlafayette.com
SUMMARY:Campus Ministry Night
DESCRIPTION:Join us for a night of fun\, fellowship and the Word!\n\nWHEN: Monday Nights at 7 p.m. \nWHERE: WALC (across from the bell tower) Room 2121 \nSNACKS are provided! \nContact Pastor Horn if you need a ride 765-609-0890
URL:https://lambofgodlafayette.com/event/campus-ministry-night/
LOCATION:Purdue University\, 340 Centennial Mall Dr\, West Lafayette\, IN\, United States
CATEGORIES:Campus Ministry
ATTACH;FMTTYPE=image/png:https://lambofgodlafayette.com/wp-content/uploads/2022/08/Campus-Ministry-Nights-1.png
END:VEVENT
BEGIN:VEVENT
DTSTART;TZID=UTC:20221121T190000
DTEND;TZID=UTC:20221121T200000
DTSTAMP:20260422T103426
CREATED:20220818T201715Z
LAST-MODIFIED:20220819T025856Z
UID:5270-1669057200-1669060800@lambofgodlafayette.com
SUMMARY:Campus Ministry Night
DESCRIPTION:Join us for a night of fun\, fellowship and the Word!\n\nWHEN: Monday Nights at 7 p.m. \nWHERE: WALC (across from the bell tower) Room 2121 \nSNACKS are provided! \nContact Pastor Horn if you need a ride 765-609-0890
URL:https://lambofgodlafayette.com/event/campus-ministry-night/
LOCATION:Purdue University\, 340 Centennial Mall Dr\, West Lafayette\, IN\, United States
CATEGORIES:Campus Ministry
ATTACH;FMTTYPE=image/png:https://lambofgodlafayette.com/wp-content/uploads/2022/08/Campus-Ministry-Nights-1.png
END:VEVENT
END:VCALENDAR